BEGIN:VCALENDAR
VERSION:2.0
PRODID:-//eventon.com NONSGML v1.0//EN
CALSCALE:GREGORIAN
METHOD:PUBLISH
BEGIN:VEVENT
UID:69e510b9a46df
DTSTAMP:20260419T172825Z
DTSTART:20260314T083000Z
DTEND:20260314T153000Z
LOCATION:Ateliers Jouret 13 Rue de l'Hospice\,  Roubaix
SUMMARY:Théâtre & Mouvement
DESCRIPTION:\nhttps://9h36.fr/events/theatre-mouvement/
URL:https://9h36.fr/events/theatre-mouvement/
END:VEVENT
END:VCALENDAR